BEGIN:VCALENDAR
VERSION:2.0
PRODID:-//Tukios.com/
BEGIN:VEVENT
UID:012d141d-0126-4cb0-9d3b-c3582c203645@www.overtonfunerals.com
DTSTAMP:20260423T212721Z
DTSTART:20260425T220000Z
DTEND:20260425T230000Z
SUMMARY:Celebration of Life
DESCRIPTION:
URL:https://www.overtonfunerals.com/obituaries/nancy-hanson
LOCATION: 501 W Ashland Ave  Indianola IA 50125
GEO:41.3611462;-93.5669085
END:VEVENT
END:VCALENDAR