BEGIN:VCALENDAR
VERSION:2.0
PRODID:-//Tukios.com/
BEGIN:VEVENT
UID:c4241e77-e332-41fe-9335-ac307d66dd60@www.overtonfunerals.com
DTSTAMP:20260423T212210Z
DTSTART:20260425T210000Z
DTEND:20260425T230000Z
SUMMARY:Visitation
DESCRIPTION:
URL:https://www.overtonfunerals.com/obituaries/nancy-hanson
LOCATION: 501 W Ashland Ave  Indianola IA 50125
GEO:41.3611462;-93.5669085
END:VEVENT
END:VCALENDAR