BEGIN:VCALENDAR
VERSION:2.0
PRODID:-//Tukios.com/
BEGIN:VEVENT
UID:bebbb0ef-eb8f-43fd-babe-f06170d3b051@www.overtonfunerals.com
DTSTAMP:20260420T201959Z
DTSTART:20260509T210000Z
DTEND:20260510T000000Z
SUMMARY:Celebration of Life
DESCRIPTION:
URL:https://www.overtonfunerals.com/obituaries/denny-brown
LOCATION:Community Building at Green Acres 5347 Morman Trail  Melrose IA 
	52569
GEO:40.9151318;-93.0295443
END:VEVENT
END:VCALENDAR